BEGIN:VCALENDAR
VERSION:2.0
PRODID:-//https://peterpanchildcare.com///NONSGML kigkonsult.se iCalcreator 2.10.15//
METHOD:PUBLISH
BEGIN:VEVENT
UID:20260420T201500UTC-8831vtPES6@https://peterpanchildcare.com/
DTSTAMP:20260420T201500Z
DESCRIPTION:Explore a new country each week.\nBrazil - Week 1 (01/07 to 04/
 07)\nChina - Week 2 (7/07 to 11/07) \nEgypt - Week 3 (14/07 to 18/07)\nGre
 ece - Week 4 (21/07 to 25/07)\nIreland - Week 5 (28/07 to 01/08)\nMexico -
  Week 6 (04/08 to 08/08)\nMixed countries - Week 7 and 8\n\nWhere: DONABAT
 E CENTRE\nAddress: Scouts Den\, Portrane Road\, Donabate\, County Dublin\,
  K36 HO48\nDays: July 1st to August 22nd\n\nSpots Available: 35\nMinimum o
 f 15 children required per week.\n\n Opening Hours:\n🔹 Monday: 13:00 - 17:
 00\n🔹 Tuesday: 09:00 - 17:00\n🔹 Wednesday: 09:00 - 17:00\n🔹 Thursday: 13:0
 0 - 17:00\n🔹 Friday: 09:00 - 17:00\n\n\nFees: 295\,00 per week \nPlease no
 te that a NCS discount will be applied.\n\nIncluded: Welcome kit (bag\, bo
 ttle of water\, face towel\, wristwatch\, sun glasses)\, Breakfast\, Lunch
  and Snacks\n\nAge: 4 to 12 years old\nSite: www.peterpanafterschool.com\n
 Instagram: @peterpanafterschool https://peterpanchildcare.com/event/event/
 6-little-world-explores-summer-camp
DTSTART:20250602T120000Z
DTEND:20250823T200000Z
LOCATION:Donabate (Ballisk House\, Portrane Road\, Malahide\, Donabate\, Du
 blin)
SUMMARY:LITTLE WORLD EXPLORES - Summer Camp
URL:https://peterpanchildcare.com/event/event/6-little-world-explores-summe
 r-camp
END:VEVENT
END:VCALENDAR
